BEGIN:VCALENDAR
VERSION:2.0
PRODID:-//Scottish Dance Teachers&#039; Alliance - ECPv5.9.1//NONSGML v1.0//EN
CALSCALE:GREGORIAN
METHOD:PUBLISH
X-WR-CALNAME:Scottish Dance Teachers&#039; Alliance
X-ORIGINAL-URL:https://sdta.co.uk
X-WR-CALDESC:Events for Scottish Dance Teachers&#039; Alliance
BEGIN:VTIMEZONE
TZID:UTC
BEGIN:STANDARD
TZOFFSETFROM:+0000
TZOFFSETTO:+0000
TZNAME:UTC
DTSTART:20170101T000000
END:STANDARD
END:VTIMEZONE
BEGIN:VEVENT
DTSTART;TZID=UTC:20170726T160000
DTEND;TZID=UTC:20170726T200000
DTSTAMP:20211020T172125
CREATED:20170519T125953Z
LAST-MODIFIED:20170519T130623Z
UID:10820-1501084800-1501099200@sdta.co.uk
SUMMARY:Acro Upskilling Course
DESCRIPTION:[bsk-pdf-manager-pdf id=”50″]
URL:https://sdta.co.uk/event/acro-upskilling-course/
LOCATION:SDTA Studios\, 101 Park Road\, Glasgow\, G4 9JE\, United Kingdom
CATEGORIES:General - Members Only
END:VEVENT
END:VCALENDAR