BEGIN:VCALENDAR
VERSION:2.0
PRODID:-//Scottish Dance Teachers&#039; Alliance - ECPv5.3.1.1//NONSGML v1.0//EN
CALSCALE:GREGORIAN
METHOD:PUBLISH
X-WR-CALNAME:Scottish Dance Teachers&#039; Alliance
X-ORIGINAL-URL:https://sdta.co.uk
X-WR-CALDESC:Events for Scottish Dance Teachers&#039; Alliance
BEGIN:VTIMEZONE
TZID:UTC
BEGIN:STANDARD
TZOFFSETFROM:+0000
TZOFFSETTO:+0000
TZNAME:UTC
DTSTART:20160101T000000
END:STANDARD
END:VTIMEZONE
BEGIN:VEVENT
DTSTART;TZID=UTC:20161030T100000
DTEND;TZID=UTC:20161030T120000
DTSTAMP:20210522T171906
CREATED:20161012T150140Z
LAST-MODIFIED:20161018T142205Z
UID:4936-1477821600-1477828800@sdta.co.uk
SUMMARY:Acrobatic Dance technique
DESCRIPTION:Baton and Cheer are hosting this lecture.  All members are welcome as they are hoping to encourage teachers to add Acro to their repetriore
URL:https://sdta.co.uk/event/acrobatic-dance-technique/
LOCATION:SDTA Studios\, 101 Park Road\, Glasgow\, G4 9JE\, United Kingdom
CATEGORIES:Ballet & Theatre - Members Only,Ballroom - Members Only,Baton & Cheer - Members Only,Highland - Members Only
END:VEVENT
END:VCALENDAR