BEGIN:VCALENDAR
VERSION:2.0
PRODID:-//Scottish Dance Teachers&#039; Alliance - ECPv6.15.18//NONSGML v1.0//EN
CALSCALE:GREGORIAN
METHOD:PUBLISH
X-WR-CALNAME:Scottish Dance Teachers&#039; Alliance
X-ORIGINAL-URL:https://sdta.co.uk
X-WR-CALDESC:Events for Scottish Dance Teachers&#039; Alliance
REFRESH-INTERVAL;VALUE=DURATION:PT1H
X-Robots-Tag:noindex
X-PUBLISHED-TTL:PT1H
BEGIN:VTIMEZONE
TZID:UTC
BEGIN:STANDARD
TZOFFSETFROM:+0000
TZOFFSETTO:+0000
TZNAME:UTC
DTSTART:20190101T000000
END:STANDARD
END:VTIMEZONE
BEGIN:VEVENT
DTSTART;VALUE=DATE:20200322
DTEND;VALUE=DATE:20200323
DTSTAMP:20260425T000804
CREATED:20200120T103516Z
LAST-MODIFIED:20200120T103516Z
UID:26102-1584835200-1584921599@sdta.co.uk
SUMMARY:Attitude Dance Competition 2020
DESCRIPTION:Entry form 2020
URL:https://sdta.co.uk/event/attitude-dance-competition-2020/
LOCATION:Ravenscraig Sports Facility\, Motherwell\, South Lanarkshire\, ML1 2TZ\, United Kingdom
CATEGORIES:Baton & Cheer
END:VEVENT
END:VCALENDAR