BEGIN:VCALENDAR
VERSION:2.0
PRODID:-//Scottish Dance Teachers&#039; Alliance - ECPv5.9.1//NONSGML v1.0//EN
CALSCALE:GREGORIAN
METHOD:PUBLISH
X-WR-CALNAME:Scottish Dance Teachers&#039; Alliance
X-ORIGINAL-URL:https://sdta.co.uk
X-WR-CALDESC:Events for Scottish Dance Teachers&#039; Alliance
BEGIN:VTIMEZONE
TZID:UTC
BEGIN:STANDARD
TZOFFSETFROM:+0000
TZOFFSETTO:+0000
TZNAME:UTC
DTSTART:20160101T000000
END:STANDARD
END:VTIMEZONE
BEGIN:VEVENT
DTSTART;VALUE=DATE:20161105
DTEND;VALUE=DATE:20161106
DTSTAMP:20211018T183402
CREATED:20160125T140008Z
LAST-MODIFIED:20160701T120055Z
UID:525-1478304000-1478390399@sdta.co.uk
SUMMARY:Ballroom Branch Meeting & Dinner
DESCRIPTION:You must have an active SDTA membership to access this content.
URL:https://sdta.co.uk/event/ballroom-branch-meeting-dinner/
CATEGORIES:Ballroom - Members Only
END:VEVENT
END:VCALENDAR