BEGIN:VCALENDAR
VERSION:2.0
PRODID:-//Scottish Dance Teachers&#039; Alliance - ECPv5.9.1//NONSGML v1.0//EN
CALSCALE:GREGORIAN
METHOD:PUBLISH
X-WR-CALNAME:Scottish Dance Teachers&#039; Alliance
X-ORIGINAL-URL:https://sdta.co.uk
X-WR-CALDESC:Events for Scottish Dance Teachers&#039; Alliance
BEGIN:VTIMEZONE
TZID:UTC
BEGIN:STANDARD
TZOFFSETFROM:+0000
TZOFFSETTO:+0000
TZNAME:UTC
DTSTART:20160101T000000
END:STANDARD
END:VTIMEZONE
BEGIN:VEVENT
DTSTART;VALUE=DATE:20160221
DTEND;VALUE=DATE:20160222
DTSTAMP:20211018T183658
CREATED:20160212T160657Z
LAST-MODIFIED:20160701T104153Z
UID:776-1456012800-1456099199@sdta.co.uk
SUMMARY:Ballroom General Examinations
DESCRIPTION:Teacher examination estimate forms to be received at the SDTA office by Friday 22nd January\, 2016.
URL:https://sdta.co.uk/event/ballroom-general-examinations/
LOCATION:SDTA Studios\, 101 Park Road\, Glasgow\, G4 9JE\, United Kingdom
CATEGORIES:Ballroom
END:VEVENT
END:VCALENDAR