BEGIN:VCALENDAR
VERSION:2.0
PRODID:-//Scottish Dance Teachers&#039; Alliance - ECPv5.9.1//NONSGML v1.0//EN
CALSCALE:GREGORIAN
METHOD:PUBLISH
X-WR-CALNAME:Scottish Dance Teachers&#039; Alliance
X-ORIGINAL-URL:https://sdta.co.uk
X-WR-CALDESC:Events for Scottish Dance Teachers&#039; Alliance
BEGIN:VTIMEZONE
TZID:UTC
BEGIN:STANDARD
TZOFFSETFROM:+0000
TZOFFSETTO:+0000
TZNAME:UTC
DTSTART:20160101T000000
END:STANDARD
END:VTIMEZONE
BEGIN:VEVENT
DTSTART;VALUE=DATE:20161112
DTEND;VALUE=DATE:20161113
DTSTAMP:20211018T183502
CREATED:20160125T141033Z
LAST-MODIFIED:20160823T141243Z
UID:527-1478908800-1478995199@sdta.co.uk
SUMMARY:European Highland Scholarships
DESCRIPTION:
URL:https://sdta.co.uk/event/european-highland-scholarships-day-of-dance-2/
LOCATION:The Alona Hotel\, Motherwell\, South Lanarkshire\, ML1 3RT\, United Kingdom
CATEGORIES:Highland
END:VEVENT
END:VCALENDAR