BEGIN:VCALENDAR
VERSION:2.0
PRODID:-//Scottish Dance Teachers&#039; Alliance - ECPv5.9.1//NONSGML v1.0//EN
CALSCALE:GREGORIAN
METHOD:PUBLISH
X-WR-CALNAME:Scottish Dance Teachers&#039; Alliance
X-ORIGINAL-URL:https://sdta.co.uk
X-WR-CALDESC:Events for Scottish Dance Teachers&#039; Alliance
BEGIN:VTIMEZONE
TZID:UTC
BEGIN:STANDARD
TZOFFSETFROM:+0000
TZOFFSETTO:+0000
TZNAME:UTC
DTSTART:20160101T000000
END:STANDARD
END:VTIMEZONE
BEGIN:VEVENT
DTSTART;VALUE=DATE:20160930
DTEND;VALUE=DATE:20161003
DTSTAMP:20211018T183731
CREATED:20160701T084017Z
LAST-MODIFIED:20160701T111145Z
UID:3859-1475193600-1475452799@sdta.co.uk
SUMMARY:SDTA North American Conference and Scholarships
DESCRIPTION:SDTA Teachers’ Conference and Banquet. \nThe James L. McKenzie & Elspeth Strathern Highland Scholarship Event.
URL:https://sdta.co.uk/event/north-american-sdta-conference-and-scholarships/
LOCATION:Casino New Brunswick\, Moncton\, Canada
CATEGORIES:Highland
END:VEVENT
END:VCALENDAR