BEGIN:VCALENDAR
VERSION:2.0
PRODID:-//Scottish Dance Teachers&#039; Alliance - ECPv5.9.1//NONSGML v1.0//EN
CALSCALE:GREGORIAN
METHOD:PUBLISH
X-WR-CALNAME:Scottish Dance Teachers&#039; Alliance
X-ORIGINAL-URL:https://sdta.co.uk
X-WR-CALDESC:Events for Scottish Dance Teachers&#039; Alliance
BEGIN:VTIMEZONE
TZID:UTC
BEGIN:STANDARD
TZOFFSETFROM:+0000
TZOFFSETTO:+0000
TZNAME:UTC
DTSTART:20160101T000000
END:STANDARD
END:VTIMEZONE
BEGIN:VEVENT
DTSTART;TZID=UTC:20160304T033000
DTEND;TZID=UTC:20160304T163000
DTSTAMP:20211018T183600
CREATED:20160129T181543Z
LAST-MODIFIED:20160201T090451Z
UID:567-1457062200-1457109000@sdta.co.uk
SUMMARY:SDTA Lecture on 8th Edition SOBHD Book
DESCRIPTION:Free to SDTA teachers and $30 for Non-Members.
URL:https://sdta.co.uk/event/sdta-lecture-on-8th-edition-sobhd-book-2/
LOCATION:Argyll School of Dance\, #17 100 Kal Lake Road\, Vernon\, BC\, Canada
CATEGORIES:Highland
ORGANIZER;CN="Cheryl%20Rosborough":MAILTO:aviemore@shaw.ca
END:VEVENT
END:VCALENDAR