BEGIN:VCALENDAR
VERSION:2.0
PRODID:-//Scottish Dance Teachers&#039; Alliance - ECPv5.3.1.1//NONSGML v1.0//EN
CALSCALE:GREGORIAN
METHOD:PUBLISH
X-WR-CALNAME:Scottish Dance Teachers&#039; Alliance
X-ORIGINAL-URL:https://sdta.co.uk
X-WR-CALDESC:Events for Scottish Dance Teachers&#039; Alliance
BEGIN:VTIMEZONE
TZID:UTC
BEGIN:STANDARD
TZOFFSETFROM:+0000
TZOFFSETTO:+0000
TZNAME:UTC
DTSTART:20210101T000000
END:STANDARD
END:VTIMEZONE
BEGIN:VEVENT
DTSTART;VALUE=DATE:20210924
DTEND;VALUE=DATE:20210925
DTSTAMP:20210914T123353
CREATED:20210727T142308Z
LAST-MODIFIED:20210727T142308Z
UID:29691-1632441600-1632527999@sdta.co.uk
SUMMARY:SDTA NA Scholarships
DESCRIPTION:
URL:https://sdta.co.uk/event/sdta-na-scholarships/
CATEGORIES:General - Members Only
END:VEVENT
END:VCALENDAR