BEGIN:VCALENDAR
VERSION:2.0
PRODID:-//Scottish Dance Teachers&#039; Alliance - ECPv5.9.1//NONSGML v1.0//EN
CALSCALE:GREGORIAN
METHOD:PUBLISH
X-WR-CALNAME:Scottish Dance Teachers&#039; Alliance
X-ORIGINAL-URL:https://sdta.co.uk
X-WR-CALDESC:Events for Scottish Dance Teachers&#039; Alliance
BEGIN:VTIMEZONE
TZID:UTC
BEGIN:STANDARD
TZOFFSETFROM:+0000
TZOFFSETTO:+0000
TZNAME:UTC
DTSTART:20170101T000000
END:STANDARD
END:VTIMEZONE
BEGIN:VEVENT
DTSTART;VALUE=DATE:20171014
DTEND;VALUE=DATE:20171022
DTSTAMP:20211020T172049
CREATED:20170518T112517Z
LAST-MODIFIED:20170518T115039Z
UID:10809-1507939200-1508630399@sdta.co.uk
SUMMARY:Stage Festival & Championships 2017
DESCRIPTION:[bsk-pdf-manager-pdf id=”48″]
URL:https://sdta.co.uk/event/stage-festival-2017/
LOCATION:Denny Civic Centre\, Dumbarton
CATEGORIES:Ballet & Theatre
ORGANIZER;CN="Jan%20Sutherland":MAILTO:info@janarcher.co.uk
END:VEVENT
END:VCALENDAR