BEGIN:VCALENDAR
VERSION:2.0
PRODID:-//Scottish Dance Teachers&#039; Alliance - ECPv5.9.1//NONSGML v1.0//EN
CALSCALE:GREGORIAN
METHOD:PUBLISH
X-WR-CALNAME:Scottish Dance Teachers&#039; Alliance
X-ORIGINAL-URL:https://sdta.co.uk
X-WR-CALDESC:Events for Scottish Dance Teachers&#039; Alliance
BEGIN:VTIMEZONE
TZID:UTC
BEGIN:STANDARD
TZOFFSETFROM:+0000
TZOFFSETTO:+0000
TZNAME:UTC
DTSTART:20160101T000000
END:STANDARD
END:VTIMEZONE
BEGIN:VEVENT
DTSTART;VALUE=DATE:20161015
DTEND;VALUE=DATE:20161023
DTSTAMP:20211018T183259
CREATED:20160125T135420Z
LAST-MODIFIED:20160823T094625Z
UID:523-1476489600-1477180799@sdta.co.uk
SUMMARY:Stage Festival & Central Scotland Championships
DESCRIPTION:http://sdta.wpengine.com/stage-festival-2016-timetable/
URL:https://sdta.co.uk/event/stage-festival-central-scotland-championships/
CATEGORIES:Ballet & Theatre
END:VEVENT
END:VCALENDAR