BEGIN:VCALENDAR
VERSION:2.0
PRODID:-//Scottish Dance Teachers&#039; Alliance - ECPv5.9.1//NONSGML v1.0//EN
CALSCALE:GREGORIAN
METHOD:PUBLISH
X-WR-CALNAME:Scottish Dance Teachers&#039; Alliance
X-ORIGINAL-URL:https://sdta.co.uk
X-WR-CALDESC:Events for Scottish Dance Teachers&#039; Alliance
BEGIN:VTIMEZONE
TZID:UTC
BEGIN:STANDARD
TZOFFSETFROM:+0000
TZOFFSETTO:+0000
TZNAME:UTC
DTSTART:20210101T000000
END:STANDARD
END:VTIMEZONE
BEGIN:VEVENT
DTSTART;TZID=UTC:20210530T100000
DTEND;TZID=UTC:20210530T110000
DTSTAMP:20211013T223602
CREATED:20210526T121048Z
LAST-MODIFIED:20210526T122217Z
UID:29452-1622368800-1622372400@sdta.co.uk
SUMMARY:Choreography by REMT Dance Director - Aileen Robertson!
DESCRIPTION:Dance Director Aileen Robertson and REMT dancer Elayne Seaton will take you through a new and exciting Choreography especially made for SDTA dancers! \nFollowed by a Q&A session! Ask the Dance Director all things Tattoo! \n\nLink for SDTA dancers to register – CLICK HERE\nRegistration closes Friday 28th May (or when capacity is reached)\nZoom codes will be sent on Saturday 29th May\n10am – 10.45am\nOpen to ALL levels interested in dancing at the Tattoo in the future
URL:https://sdta.co.uk/event/choreography-by-remt-dance-director-aileen-robertson/
LOCATION:via Zoom
CATEGORIES:General - Members Only
END:VEVENT
END:VCALENDAR