BEGIN:VCALENDAR
VERSION:2.0
PRODID:-//Scottish Dance Teachers&#039; Alliance - ECPv5.9.1//NONSGML v1.0//EN
CALSCALE:GREGORIAN
METHOD:PUBLISH
X-WR-CALNAME:Scottish Dance Teachers&#039; Alliance
X-ORIGINAL-URL:https://sdta.co.uk
X-WR-CALDESC:Events for Scottish Dance Teachers&#039; Alliance
BEGIN:VTIMEZONE
TZID:UTC
BEGIN:STANDARD
TZOFFSETFROM:+0000
TZOFFSETTO:+0000
TZNAME:UTC
DTSTART:20210101T000000
END:STANDARD
END:VTIMEZONE
BEGIN:VEVENT
DTSTART;VALUE=DATE:20210606
DTEND;VALUE=DATE:20210607
DTSTAMP:20211013T223750
CREATED:20210413T090006Z
LAST-MODIFIED:20210413T090006Z
UID:29348-1622937600-1623023999@sdta.co.uk
SUMMARY:Lecture 3 – Blue Bonnets\, Earl of Errol\, Village Maid with Aileen Robertson and Allana Brown
DESCRIPTION:(ON\, MB\, AB\, SK\, SA)
URL:https://sdta.co.uk/event/lecture-3-blue-bonnets-earl-of-errol-village-maid-with-aileen-robertson-and-allana-brown/
LOCATION:via Zoom
CATEGORIES:General - Members Only
END:VEVENT
END:VCALENDAR