BEGIN:VCALENDAR
VERSION:2.0
PRODID:-//Scottish Dance Teachers&#039; Alliance - ECPv5.9.1//NONSGML v1.0//EN
CALSCALE:GREGORIAN
METHOD:PUBLISH
X-WR-CALNAME:Scottish Dance Teachers&#039; Alliance
X-ORIGINAL-URL:https://sdta.co.uk
X-WR-CALDESC:Events for Scottish Dance Teachers&#039; Alliance
BEGIN:VTIMEZONE
TZID:UTC
BEGIN:STANDARD
TZOFFSETFROM:+0000
TZOFFSETTO:+0000
TZNAME:UTC
DTSTART:20210101T000000
END:STANDARD
END:VTIMEZONE
BEGIN:VEVENT
DTSTART;TZID=UTC:20211003T100000
DTEND;TZID=UTC:20211003T133000
DTSTAMP:20210926T234823
CREATED:20210727T142704Z
LAST-MODIFIED:20210727T142704Z
UID:29692-1633255200-1633267800@sdta.co.uk
SUMMARY:Ballet & Theatre Teachers' CPD Day
DESCRIPTION:Modern Grades Lecture & Branch Meeting \nLecturers – Jan Sutherland & Nadine McKenzie Judge \nNew Modern Grade Syllabus Primary Foundation to Grade 5: 10am – 1pm \nBranch Meeting: 1pm – 1.30pm
URL:https://sdta.co.uk/event/ballet-theatre-teachers-cpd-day-3/
LOCATION:TBC
CATEGORIES:General - Members Only
END:VEVENT
BEGIN:VEVENT
DTSTART;VALUE=DATE:20211008
DTEND;VALUE=DATE:20211018
DTSTAMP:20210926T234823
CREATED:20210727T142945Z
LAST-MODIFIED:20210727T142945Z
UID:29693-1633651200-1634515199@sdta.co.uk
SUMMARY:Stage Festival & Championships
DESCRIPTION:
URL:https://sdta.co.uk/event/stage-festival-championships/
CATEGORIES:General Events
ORGANIZER;CN="Jan%20Sutherland":MAILTO:info@janarcher.co.uk
END:VEVENT
BEGIN:VEVENT
DTSTART;VALUE=DATE:20211017
DTEND;VALUE=DATE:20211018
DTSTAMP:20210926T234823
CREATED:20210727T143155Z
LAST-MODIFIED:20210727T143155Z
UID:29694-1634428800-1634515199@sdta.co.uk
SUMMARY:Highland Branch Meeting & Lectures
DESCRIPTION:2022 Championship & Premiership Step Lectures
URL:https://sdta.co.uk/event/highland-branch-meeting-lectures-3/
LOCATION:TBC
CATEGORIES:General - Members Only
END:VEVENT
BEGIN:VEVENT
DTSTART;VALUE=DATE:20211024
DTEND;VALUE=DATE:20211025
DTSTAMP:20210926T234823
CREATED:20210727T144218Z
LAST-MODIFIED:20210727T144218Z
UID:29700-1635033600-1635119999@sdta.co.uk
SUMMARY:Highland Generals Examination Session
DESCRIPTION:Please contact the SDTA Office to book your slot at least 4 weeks before the exam date. \nVideo Submissions should be sent to admin@sdta.co.uk 2 days before the exam date.
URL:https://sdta.co.uk/event/highland-generals-examination-session-3/
LOCATION:Video Submissions
CATEGORIES:General - Members Only
END:VEVENT
END:VCALENDAR