BEGIN:VCALENDAR
VERSION:2.0
PRODID:-//Scottish Dance Teachers&#039; Alliance - ECPv6.15.18//NONSGML v1.0//EN
CALSCALE:GREGORIAN
METHOD:PUBLISH
X-WR-CALNAME:Scottish Dance Teachers&#039; Alliance
X-ORIGINAL-URL:https://sdta.co.uk
X-WR-CALDESC:Events for Scottish Dance Teachers&#039; Alliance
REFRESH-INTERVAL;VALUE=DURATION:PT1H
X-Robots-Tag:noindex
X-PUBLISHED-TTL:PT1H
BEGIN:VTIMEZONE
TZID:UTC
BEGIN:STANDARD
TZOFFSETFROM:+0000
TZOFFSETTO:+0000
TZNAME:UTC
DTSTART:20220101T000000
END:STANDARD
END:VTIMEZONE
BEGIN:VEVENT
DTSTART;VALUE=DATE:20250223
DTEND;VALUE=DATE:20250224
DTSTAMP:20260419T125516
CREATED:20240911T163801Z
LAST-MODIFIED:20240911T164428Z
UID:38800-1740268800-1740355199@sdta.co.uk
SUMMARY:Ballroom Branch Meeting & Lecture
DESCRIPTION:
URL:https://sdta.co.uk/event/ballroom-branch-meeting-lecture-3/
LOCATION:Dalgety Bay Community Centre\, Fife\, KY11 9UZ\, United Kingdom
END:VEVENT
BEGIN:VEVENT
DTSTART;VALUE=DATE:20241208
DTEND;VALUE=DATE:20241209
DTSTAMP:20260419T125516
CREATED:20240911T162819Z
LAST-MODIFIED:20240911T162819Z
UID:38794-1733616000-1733702399@sdta.co.uk
SUMMARY:Highland General Examinations
DESCRIPTION:
URL:https://sdta.co.uk/event/highland-general-examinations-3/
LOCATION:SDTA Studios\, 101 Park Road\, Glasgow\, G4 9JE\, United Kingdom
END:VEVENT
BEGIN:VEVENT
DTSTART;VALUE=DATE:20241208
DTEND;VALUE=DATE:20241209
DTSTAMP:20260419T125516
CREATED:20240911T155040Z
LAST-MODIFIED:20240912T131701Z
UID:38785-1733616000-1733702399@sdta.co.uk
SUMMARY:SDTA Choreography Competition
DESCRIPTION:SDTA-Highland-Choreography-Challenge-2024
URL:https://sdta.co.uk/event/sdta-choreography-competition/
LOCATION:The Bay Hotel\, Pettycur\, Kinghorn\, Burntisland Road\, Kinghorn\, KY3 9YE\, United Kingdom
CATEGORIES:Highland - Members Only
END:VEVENT
BEGIN:VEVENT
DTSTART;VALUE=DATE:20241201
DTEND;VALUE=DATE:20241202
DTSTAMP:20260419T125516
CREATED:20240911T164158Z
LAST-MODIFIED:20240911T164158Z
UID:38804-1733011200-1733097599@sdta.co.uk
SUMMARY:Ballet & Theatre General Examinations
DESCRIPTION:
URL:https://sdta.co.uk/event/ballet-theatre-general-examinations-2/
LOCATION:SDTA Studios\, 101 Park Road\, Glasgow\, G4 9JE\, United Kingdom
CATEGORIES:Ballet & Theatre
END:VEVENT
BEGIN:VEVENT
DTSTART;VALUE=DATE:20241109
DTEND;VALUE=DATE:20241111
DTSTAMP:20260419T125516
CREATED:20240911T163318Z
LAST-MODIFIED:20240911T164736Z
UID:38797-1731110400-1731283199@sdta.co.uk
SUMMARY:SDTA UK & Europe Highland Scholarships and Day of Dance
DESCRIPTION:
URL:https://sdta.co.uk/event/sdta-uk-europe-highland-scholarships-and-day-of-dance/
LOCATION:The Alona Hotel\, Motherwell\, South Lanarkshire\, ML1 3RT\, United Kingdom
END:VEVENT
BEGIN:VEVENT
DTSTART;VALUE=DATE:20241103
DTEND;VALUE=DATE:20241104
DTSTAMP:20260419T125516
CREATED:20240911T163555Z
LAST-MODIFIED:20240911T164804Z
UID:38799-1730592000-1730678399@sdta.co.uk
SUMMARY:Ballroom Branch Meeting & Lecture
DESCRIPTION:
URL:https://sdta.co.uk/event/ballroom-branch-meeting-lecture-2/
LOCATION:SDTA Studios\, 101 Park Road\, Glasgow\, G4 9JE\, United Kingdom
END:VEVENT
BEGIN:VEVENT
DTSTART;TZID=UTC:20241027T100000
DTEND;TZID=UTC:20241027T130000
DTSTAMP:20260419T125516
CREATED:20240911T162655Z
LAST-MODIFIED:20240911T162655Z
UID:38788-1730023200-1730034000@sdta.co.uk
SUMMARY:Lecture on Teaching 2025 Championship & Premiership Steps & Highland Branch Meeting
DESCRIPTION:
URL:https://sdta.co.uk/event/lecture-on-teaching-2025-championship-premiership-steps-highland-branch-meeting/
LOCATION:SDTA Studios\, 101 Park Road\, Glasgow\, G4 9JE\, United Kingdom
CATEGORIES:Highland
END:VEVENT
BEGIN:VEVENT
DTSTART;VALUE=DATE:20241027
DTEND;VALUE=DATE:20241028
DTSTAMP:20260419T125516
CREATED:20240911T163448Z
LAST-MODIFIED:20240911T163448Z
UID:38798-1729987200-1730073599@sdta.co.uk
SUMMARY:Ballroom General Examinations
DESCRIPTION:
URL:https://sdta.co.uk/event/ballroom-general-examinations/
LOCATION:SDTA Studios\, 101 Park Road\, Glasgow\, G4 9JE\, United Kingdom
END:VEVENT
BEGIN:VEVENT
DTSTART;VALUE=DATE:20241013
DTEND;VALUE=DATE:20241021
DTSTAMP:20260419T125516
CREATED:20240911T164048Z
LAST-MODIFIED:20240911T164048Z
UID:38803-1728777600-1729468799@sdta.co.uk
SUMMARY:SDTA Stage Festival & Championships
DESCRIPTION:
URL:https://sdta.co.uk/event/sdta-stage-festival-championships/
LOCATION:Denny Civic Theatre\, St Marys Way\, Dumbarton\, G82 1NL
END:VEVENT
BEGIN:VEVENT
DTSTART;VALUE=DATE:20241011
DTEND;VALUE=DATE:20241014
DTSTAMP:20260419T125516
CREATED:20240911T163133Z
LAST-MODIFIED:20240911T163133Z
UID:38795-1728604800-1728863999@sdta.co.uk
SUMMARY:North American SDTA Conference & JL McKenzie & Elspeth Strathern Scholarships 2024
DESCRIPTION:
URL:https://sdta.co.uk/event/north-american-sdta-conference-jl-mckenzie-elspeth-strathern-scholarships-2024/
LOCATION:Delta Hotels Toronto Airport & Conference Centre\, 655 Dixon Road\, Toronto\, Ontario\, Canada
END:VEVENT
BEGIN:VEVENT
DTSTART;VALUE=DATE:20241006
DTEND;VALUE=DATE:20241007
DTSTAMP:20260419T125516
CREATED:20240911T163929Z
LAST-MODIFIED:20240911T163929Z
UID:38802-1728172800-1728259199@sdta.co.uk
SUMMARY:Ballet & Theatre Meeting & Syllabus Lectures
DESCRIPTION:
URL:https://sdta.co.uk/event/ballet-theatre-meeting-syllabus-lectures/
LOCATION:SDTA Studios\, 101 Park Road\, Glasgow\, G4 9JE\, United Kingdom
END:VEVENT
BEGIN:VEVENT
DTSTART;TZID=UTC:20240915T200000
DTEND;TZID=UTC:20240915T213000
DTSTAMP:20260419T125516
CREATED:20240906T160007Z
LAST-MODIFIED:20240906T160007Z
UID:38742-1726430400-1726435800@sdta.co.uk
SUMMARY:2025 Championship & Premiership Steps Footage
DESCRIPTION:CPD for RSOBHD Judges
URL:https://sdta.co.uk/event/2025-championship-premiership-steps-footage/
LOCATION:via Zoom
CATEGORIES:Highland
END:VEVENT
BEGIN:VEVENT
DTSTART;TZID=UTC:20240908T140000
DTEND;TZID=UTC:20240908T150000
DTSTAMP:20260419T125516
CREATED:20240906T155241Z
LAST-MODIFIED:20240906T155241Z
UID:38740-1725804000-1725807600@sdta.co.uk
SUMMARY:SDTA Annual General Meeting
DESCRIPTION:
URL:https://sdta.co.uk/event/sdta-annual-general-meeting-6/
LOCATION:Double Tree by Hilton Glasgow Strathclyde\, Strathclyde Business Park\, Bellshill\, ML4 3JQ\, United Kingdom
CATEGORIES:General Events
END:VEVENT
BEGIN:VEVENT
DTSTART;TZID=UTC:20240907T183000
DTEND;TZID=UTC:20240907T233000
DTSTAMP:20260419T125516
CREATED:20240906T155624Z
LAST-MODIFIED:20240906T155624Z
UID:38741-1725733800-1725751800@sdta.co.uk
SUMMARY:SDTA 90th Party Night
DESCRIPTION:
URL:https://sdta.co.uk/event/sdta-90th-party-night/
LOCATION:Double Tree by Hilton Glasgow Strathclyde\, Strathclyde Business Park\, Bellshill\, ML4 3JQ\, United Kingdom
CATEGORIES:General Events
END:VEVENT
BEGIN:VEVENT
DTSTART;TZID=UTC:20240317T140000
DTEND;TZID=UTC:20240317T160000
DTSTAMP:20260419T125516
CREATED:20240214T190202Z
LAST-MODIFIED:20240214T190214Z
UID:37919-1710684000-1710691200@sdta.co.uk
SUMMARY:Ballroom Branch Meeting
DESCRIPTION:2-3pm interactive workshop on teaching tips \n3 pm branch meeting
URL:https://sdta.co.uk/event/ballroom-branch-meeting-2/
LOCATION:SDTA Studios\, 101 Park Road\, Glasgow\, G4 9JE\, United Kingdom
CATEGORIES:Ballroom - Members Only
END:VEVENT
BEGIN:VEVENT
DTSTART;TZID=UTC:20240225T080000
DTEND;TZID=UTC:20240225T170000
DTSTAMP:20260419T125516
CREATED:20240202T203723Z
LAST-MODIFIED:20240202T203745Z
UID:37841-1708848000-1708880400@sdta.co.uk
SUMMARY:Ballet and Theatre General Examinations
DESCRIPTION:
URL:https://sdta.co.uk/event/ballet-and-theatre-general-examinations-5/
LOCATION:SDTA Studios\, 101 Park Road\, Glasgow\, G4 9JE\, United Kingdom
CATEGORIES:Ballet & Theatre
END:VEVENT
BEGIN:VEVENT
DTSTART;TZID=UTC:20240218T080000
DTEND;TZID=UTC:20240218T170000
DTSTAMP:20260419T125516
CREATED:20240202T203606Z
LAST-MODIFIED:20240202T203615Z
UID:37839-1708243200-1708275600@sdta.co.uk
SUMMARY:Dingwall Day of Dance 2024
DESCRIPTION:
URL:https://sdta.co.uk/event/dingwall-day-of-dance-2024/
LOCATION:Dingwall
CATEGORIES:Highland
END:VEVENT
BEGIN:VEVENT
DTSTART;TZID=UTC:20240204T080000
DTEND;TZID=UTC:20240204T170000
DTSTAMP:20260419T125516
CREATED:20240202T203400Z
LAST-MODIFIED:20240202T210726Z
UID:37838-1707033600-1707066000@sdta.co.uk
SUMMARY:Ballet & Theatre Branch meeting and CPD
DESCRIPTION:
URL:https://sdta.co.uk/event/ballet-theatre-branch-meeting-and-cpd/
CATEGORIES:Ballet & Theatre - Members Only
END:VEVENT
BEGIN:VEVENT
DTSTART;TZID=UTC:20240203T150000
DTEND;TZID=UTC:20240203T190000
DTSTAMP:20260419T125516
CREATED:20240202T203251Z
LAST-MODIFIED:20240202T210625Z
UID:37837-1706972400-1706986800@sdta.co.uk
SUMMARY:Tap workshop with Val Armstrong
DESCRIPTION:
URL:https://sdta.co.uk/event/tap-workshop-for-dancers/
LOCATION:SDTA Studios\, 101 Park Road\, Glasgow\, G4 9JE\, United Kingdom
CATEGORIES:Ballet & Theatre
END:VEVENT
BEGIN:VEVENT
DTSTART;TZID=UTC:20240203T080000
DTEND;TZID=UTC:20240203T170000
DTSTAMP:20260419T125516
CREATED:20240202T203119Z
LAST-MODIFIED:20240202T203138Z
UID:37836-1706947200-1706979600@sdta.co.uk
SUMMARY:SDTA [ON] Milton Festival
DESCRIPTION:
URL:https://sdta.co.uk/event/sdta-on-milton-festival-2/
END:VEVENT
BEGIN:VEVENT
DTSTART;VALUE=DATE:20231210
DTEND;VALUE=DATE:20231211
DTSTAMP:20260419T125516
CREATED:20230816T112211Z
LAST-MODIFIED:20230816T112211Z
UID:36089-1702166400-1702252799@sdta.co.uk
SUMMARY:Highland General Examination
DESCRIPTION:
URL:https://sdta.co.uk/event/highland-general-examination/
LOCATION:SDTA Studios\, 101 Park Road\, Glasgow\, G4 9JE\, United Kingdom
CATEGORIES:Highland
END:VEVENT
BEGIN:VEVENT
DTSTART;VALUE=DATE:20231203
DTEND;VALUE=DATE:20231204
DTSTAMP:20260419T125516
CREATED:20230816T112108Z
LAST-MODIFIED:20230816T112108Z
UID:36088-1701561600-1701647999@sdta.co.uk
SUMMARY:Ballet & Theatre General Examinations
DESCRIPTION:
URL:https://sdta.co.uk/event/ballet-theatre-general-examinations/
LOCATION:SDTA Studios\, 101 Park Road\, Glasgow\, G4 9JE\, United Kingdom
CATEGORIES:Ballet & Theatre
END:VEVENT
BEGIN:VEVENT
DTSTART;VALUE=DATE:20231111
DTEND;VALUE=DATE:20231113
DTSTAMP:20260419T125516
CREATED:20230816T105124Z
LAST-MODIFIED:20230816T105124Z
UID:36087-1699660800-1699833599@sdta.co.uk
SUMMARY:UK & Europe Highland Scholarships & Day of Dance
DESCRIPTION:
URL:https://sdta.co.uk/event/uk-europe-highland-scholarships-day-of-dance/
LOCATION:The Alona Hotel\, Motherwell\, South Lanarkshire\, ML1 3RT\, United Kingdom
CATEGORIES:Highland
END:VEVENT
BEGIN:VEVENT
DTSTART;VALUE=DATE:20231105
DTEND;VALUE=DATE:20231106
DTSTAMP:20260419T125516
CREATED:20230816T104532Z
LAST-MODIFIED:20230816T104532Z
UID:36086-1699142400-1699228799@sdta.co.uk
SUMMARY:Ballroom Branch Meeting & Lecture
DESCRIPTION:
URL:https://sdta.co.uk/event/ballroom-branch-meeting-lecture/
LOCATION:SDTA Studios\, 101 Park Road\, Glasgow\, G4 9JE\, United Kingdom
CATEGORIES:Ballroom
END:VEVENT
BEGIN:VEVENT
DTSTART;VALUE=DATE:20231104
DTEND;VALUE=DATE:20231105
DTSTAMP:20260419T125516
CREATED:20230816T104417Z
LAST-MODIFIED:20230816T104417Z
UID:36085-1699056000-1699142399@sdta.co.uk
SUMMARY:SDTA Premierships & Highland Festival
DESCRIPTION:
URL:https://sdta.co.uk/event/sdta-premierships-highland-festival-2/
LOCATION:Clydebank
CATEGORIES:Highland
END:VEVENT
BEGIN:VEVENT
DTSTART;TZID=UTC:20231029T100000
DTEND;TZID=UTC:20231029T140000
DTSTAMP:20260419T125516
CREATED:20230703T101458Z
LAST-MODIFIED:20230816T103955Z
UID:35883-1698573600-1698588000@sdta.co.uk
SUMMARY:Highland Branch Meeting & Lectures
DESCRIPTION:Sunday 29th October 2023\nSDTA Studios\, Glasgow\n10am – 12noon: Lecture on teaching the 2024 Championship & Premiership Steps\nFollowed by a Branch Meeting\n\nLink to register: https://forms.gle/JbCMGceKLJtCG9WLA \nNon SDTA members £10 fee to be paid after registering: Non SDTA member lecture fee – Scottish Dance Teachers’ Alliance
URL:https://sdta.co.uk/event/highland-branch-meeting-lectures-2/
LOCATION:SDTA Studios\, 101 Park Road\, Glasgow\, G4 9JE\, United Kingdom
CATEGORIES:Highland
END:VEVENT
BEGIN:VEVENT
DTSTART;VALUE=DATE:20231014
DTEND;VALUE=DATE:20231027
DTSTAMP:20260419T125516
CREATED:20230816T104144Z
LAST-MODIFIED:20230816T104144Z
UID:36084-1697241600-1698364799@sdta.co.uk
SUMMARY:SDTA Stage Festival & TDCI Championships
DESCRIPTION:
URL:https://sdta.co.uk/event/sdta-stage-festival-tdci-championships/
LOCATION:Denny Civic Theatre\, St Marys Way\, Dumbarton\, G82 1NL
CATEGORIES:Ballet & Theatre
ORGANIZER;CN="Jan Sutherland":MAILTO:info@janarcher.co.uk
END:VEVENT
BEGIN:VEVENT
DTSTART;TZID=UTC:20231008T100000
DTEND;TZID=UTC:20231008T140000
DTSTAMP:20260419T125516
CREATED:20230703T101353Z
LAST-MODIFIED:20230816T103257Z
UID:35882-1696759200-1696773600@sdta.co.uk
SUMMARY:Ballet & Theatre Branch Meeting & CPD Day
DESCRIPTION:SDTA Studios\, Glasgow\, G4 9JE \n\n10am to 11am: Lyrical Lecture with Olivia O’Brien\n11am to 12noon: Commercial Lecture with Gail McKinlay\n12noon to 12.30pm: Classical Ballet Technique with Thomas Paton. Mr Thomas Paton FSDTA (Ballet)  will be trialling “bite-sized” classical  ballet teaching technique for teachers.\n1pm: Ballet & Theatre Branch Meeting\n\nLink to register: https://forms.gle/ciKyDTfMFD6rCGZf8
URL:https://sdta.co.uk/event/ballet-theatre-branch-meeting-cpd-day/
LOCATION:SDTA Studios\, 101 Park Road\, Glasgow\, G4 9JE\, United Kingdom
CATEGORIES:Ballet & Theatre
END:VEVENT
BEGIN:VEVENT
DTSTART;VALUE=DATE:20230929
DTEND;VALUE=DATE:20231002
DTSTAMP:20260419T125516
CREATED:20230327T102608Z
LAST-MODIFIED:20230327T102716Z
UID:35504-1695945600-1696204799@sdta.co.uk
SUMMARY:North American Scholarships 2023 in Calgary\, Alberta
DESCRIPTION:All information can be found here: SDTA North American Conference (sdtana.org)
URL:https://sdta.co.uk/event/north-american-scholarships-2023-in-calgary-alberta/
LOCATION:Best Western Premier Calgary Plaza Hotel & Conference Centre\, 1316 33 Street\, NE\, Alberta\, Canada
END:VEVENT
BEGIN:VEVENT
DTSTART;VALUE=DATE:20230917
DTEND;VALUE=DATE:20230918
DTSTAMP:20260419T125516
CREATED:20230703T101159Z
LAST-MODIFIED:20230816T103101Z
UID:35881-1694908800-1694995199@sdta.co.uk
SUMMARY:2024 Championship & Premiership Steps Footage
DESCRIPTION:Sunday 17th September Online 8pm (UK)  – 2024 Championship & Premiership Steps Footage \nLink to register: https://forms.gle/SC5c2NHc2ZoL1htb9 \nNon SDTA members £10 fee to be paid after registering: Non SDTA member lecture fee – Scottish Dance Teachers’ Alliance
URL:https://sdta.co.uk/event/2024-championship-premiership-steps-footage/
LOCATION:via Zoom
CATEGORIES:Highland
END:VEVENT
END:VCALENDAR